BEGIN:VCALENDAR
VERSION:2.0
PRODID:icalendar-ruby
CALSCALE:GREGORIAN
METHOD:PUBLISH
BEGIN:VEVENT
DTSTAMP:20260423T080816Z
UID:5-955841@thewell202.tithelysetup5.com
DTSTART:20261025T143000Z
DTEND:20261025T160000Z
CLASS:PUBLIC
CREATED:20260422T221303
DESCRIPTION:Sunday Celebration Service
LAST-MODIFIED:20260422T221303
LOCATION:
SUMMARY:Sunday Celebration Service
URL;VALUE=URI:https://www.thewellalliance.church/events/sunday-celebration-
 service/2026-10-25
END:VEVENT
END:VCALENDAR
