BEGIN:VCALENDAR
VERSION:2.0
PRODID:icalendar-ruby
CALSCALE:GREGORIAN
METHOD:PUBLISH
BEGIN:VEVENT
DTSTAMP:20260423T011510Z
UID:5-955457@thewell202.tithelysetup5.com
DTSTART:20260920T143000Z
DTEND:20260920T160000Z
CLASS:PUBLIC
CREATED:20260422T191955
DESCRIPTION:Sunday Celebration Service
LAST-MODIFIED:20260422T191955
LOCATION:
SUMMARY:Sunday Celebration Service
URL;VALUE=URI:https://www.thewellalliance.church/events/sunday-celebration-
 service/2026-09-20
END:VEVENT
END:VCALENDAR
