BEGIN:VCALENDAR
VERSION:2.0
PRODID:icalendar-ruby
CALSCALE:GREGORIAN
METHOD:PUBLISH
BEGIN:VEVENT
DTSTAMP:20260422T223350Z
UID:5-955076@thewell202.tithelysetup5.com
DTSTART:20260906T143000Z
DTEND:20260906T160000Z
CLASS:PUBLIC
CREATED:20260422T162719
DESCRIPTION:Sunday Celebration Service
LAST-MODIFIED:20260422T162719
LOCATION:
SUMMARY:Sunday Celebration Service
URL;VALUE=URI:https://www.thewellalliance.church/events/sunday-celebration-
 service/2026-09-06
END:VEVENT
END:VCALENDAR
